BEGIN:VCALENDAR
VERSION:2.0
PRODID:-//Vegetalis - ECPv5.14.2.1//NONSGML v1.0//EN
CALSCALE:GREGORIAN
METHOD:PUBLISH
X-WR-CALNAME:Vegetalis
X-ORIGINAL-URL:https://vegetalis.me
X-WR-CALDESC:Eventos para Vegetalis
BEGIN:VTIMEZONE
TZID:America/Mexico_City
BEGIN:DAYLIGHT
TZOFFSETFROM:-0600
TZOFFSETTO:-0500
TZNAME:CDT
DTSTART:20170402T080000
END:DAYLIGHT
BEGIN:STANDARD
TZOFFSETFROM:-0500
TZOFFSETTO:-0600
TZNAME:CST
DTSTART:20171029T070000
END:STANDARD
END:VTIMEZONE
BEGIN:VEVENT
DTSTART;TZID=America/Mexico_City:20170819T100000
DTEND;TZID=America/Mexico_City:20170820T160000
DTSTAMP:20260421T050555
CREATED:20170809T213401Z
LAST-MODIFIED:20170811T162153Z
UID:750-1503136800-1503244800@vegetalis.me
SUMMARY:Diplomado Medicina Tradicional Mexicana
DESCRIPTION:Sesión 2 de 5 
URL:https://vegetalis.me/eventos/diplomado-medicina-tradicional-mexicana/
LOCATION:León Guanajuato\, Calle Roma 910\, León\, Guanajuato\, Mexico
ATTACH;FMTTYPE=image/jpeg:https://vegetalis.me/wp-content/uploads/2017/08/cursoleón.jpg
END:VEVENT
END:VCALENDAR